BEGIN:VCALENDAR
VERSION:2.0
PRODID:-//pretix//ettendee.com_pretix_installation//
BEGIN:VTIMEZONE
TZID:US/Central
BEGIN:STANDARD
DTSTART:20001029T030000
RRULE:FREQ=YEARLY;BYDAY=-1SU;BYMONTH=10;UNTIL=20061029T080000Z
TZNAME:CST
TZOFFSETFROM:-0500
TZOFFSETTO:-0600
END:STANDARD
BEGIN:STANDARD
DTSTART:20071104T030000
RRULE:FREQ=YEARLY;BYDAY=1SU;BYMONTH=11
TZNAME:CST
TZOFFSETFROM:-0500
TZOFFSETTO:-0600
END:STANDARD
BEGIN:DAYLIGHT
DTSTART:20000402T030000
RRULE:FREQ=YEARLY;BYDAY=1SU;BYMONTH=4;UNTIL=20060402T090000Z
TZNAME:CDT
TZOFFSETFROM:-0600
TZOFFSETTO:-0500
END:DAYLIGHT
BEGIN:DAYLIGHT
DTSTART:20070311T030000
RRULE:FREQ=YEARLY;BYDAY=2SU;BYMONTH=3
TZNAME:CDT
TZOFFSETFROM:-0600
TZOFFSETTO:-0500
END:DAYLIGHT
END:VTIMEZONE
BEGIN:VEVENT
UID:pretix-gold-buckle-2026-owasso-ok-0@ettendee.com
DTSTART;TZID=US/Central:20260612T180000
DTEND;TZID=US/Central:20260613T210000
DESCRIPTION:Tickets: https://ettendee.com/gold-buckle/2026-owasso-ok/\nOrga
 nizer: Gold Buckle Seating
DTSTAMP:20260423T005105Z
LOCATION:Owasso Roundup Club Rodeo Arena\, Owasso OK
SUMMARY:42nd Annual Owasso Roundup Club Rodeo
END:VEVENT
END:VCALENDAR
